BEGIN:VCALENDAR
VERSION:2.0
PRODID:-//Australian Meteorological &amp; Oceanographic Society - ECPv5.0.2.1//NONSGML v1.0//EN
CALSCALE:GREGORIAN
METHOD:PUBLISH
X-WR-CALNAME:Australian Meteorological &amp; Oceanographic Society
X-ORIGINAL-URL:https://www.amos.org.au
X-WR-CALDESC:Events for Australian Meteorological &amp; Oceanographic Society
BEGIN:VTIMEZONE
TZID:Europe/Paris
BEGIN:DAYLIGHT
TZOFFSETFROM:+0100
TZOFFSETTO:+0200
TZNAME:CEST
DTSTART:20190331T010000
END:DAYLIGHT
BEGIN:STANDARD
TZOFFSETFROM:+0200
TZOFFSETTO:+0100
TZNAME:CET
DTSTART:20191027T010000
END:STANDARD
END:VTIMEZONE
BEGIN:VEVENT
DTSTART;VALUE=DATE:20190611
DTEND;VALUE=DATE:20190615
DTSTAMP:20200229T111656
CREATED:20180529T054410Z
LAST-MODIFIED:20181003T125021Z
UID:5642-1560211200-1560556799@www.amos.org.au
SUMMARY:AMOS-ICTMO 2019
DESCRIPTION:The Australian Meteorological and Oceanographic Society Annual Meeting and the International Conference on Tropical Meteorology and Oceanography (AMOS-ICTMO 2019) will be held in Darwin from 11-15 June 2019. \nAMOS-ICTMO 2019 will bring together experts in meteorology\, oceanography\, climate and other related sciences from Australia and around the world as well as government representatives\, NGOs\, businesses and the media to focus on the latest research.   This year we will be highlighting the current research in tropical oceanography and meteorology with a special conference programme attached to the general AMOS Annual Meeting proceedings. \nVisit AMOS-ICTMO 2019 website \n
URL:https://www.amos.org.au/event/amos-ictmo-2019/
LOCATION:Darwin Convention Centre\, Darwin\, Stokes Hill Road\, Darwin\, NT\, 0800\, Australia
ORGANIZER;CN="AMOS":MAILTO:admin@amos.org.au
GEO:-12.4666594;130.8490456
X-APPLE-STRUCTURED-LOCATION;VALUE=URI;X-ADDRESS=Darwin Convention Centre Darwin Stokes Hill Road Darwin NT 0800 Australia;X-APPLE-RADIUS=500;X-TITLE=Stokes Hill Road:geo:130.8490456,-12.4666594
END:VEVENT
END:VCALENDAR